BEGIN:VCALENDAR
VERSION:2.0
PRODID:-//ASB Portal - ECPv6.15.14//NONSGML v1.0//EN
CALSCALE:GREGORIAN
METHOD:PUBLISH
X-WR-CALNAME:ASB Portal
X-ORIGINAL-URL:https://www.asb-portal.cz
X-WR-CALDESC:Akce na ASB Portal
REFRESH-INTERVAL;VALUE=DURATION:PT1H
X-Robots-Tag:noindex
X-PUBLISHED-TTL:PT1H
BEGIN:VTIMEZONE
TZID:Europe/Prague
BEGIN:DAYLIGHT
TZOFFSETFROM:+0100
TZOFFSETTO:+0200
TZNAME:CEST
DTSTART:20250330T010000
END:DAYLIGHT
BEGIN:STANDARD
TZOFFSETFROM:+0200
TZOFFSETTO:+0100
TZNAME:CET
DTSTART:20251026T010000
END:STANDARD
BEGIN:DAYLIGHT
TZOFFSETFROM:+0100
TZOFFSETTO:+0200
TZNAME:CEST
DTSTART:20260329T010000
END:DAYLIGHT
BEGIN:STANDARD
TZOFFSETFROM:+0200
TZOFFSETTO:+0100
TZNAME:CET
DTSTART:20261025T010000
END:STANDARD
BEGIN:DAYLIGHT
TZOFFSETFROM:+0100
TZOFFSETTO:+0200
TZNAME:CEST
DTSTART:20270328T010000
END:DAYLIGHT
BEGIN:STANDARD
TZOFFSETFROM:+0200
TZOFFSETTO:+0100
TZNAME:CET
DTSTART:20271031T010000
END:STANDARD
END:VTIMEZONE
BEGIN:VEVENT
DTSTART;VALUE=DATE:20260421
DTEND;VALUE=DATE:20260424
DTSTAMP:20260419T143354
CREATED:20260205T101406Z
LAST-MODIFIED:20260205T101406Z
UID:218402-1776729600-1776988799@www.asb-portal.cz
SUMMARY:Urbanscapes 2026: Krajina\, transformace\, příležitost
DESCRIPTION:Krajina je prostorem\, který nás obklopuje doslova na každém kroku. Je základní vrstvou měst i venkova a prostorem\, kde se setkávají přírodní a kulturní hodnoty. Právě komplexní proměna krajiny jako prostředí\, ve kterém žijeme své každodenní životy\, je základem společenské a ekonomické transformace postindustriálních nebo silně urbanizovaných míst. Na tuto proměnu se zaměřuje třetí ročník mezinárodní konference Urbanscapes 2026\, která se uskuteční 21.–23. dubna 2026 v Ostravě pod záštitou IFLA EU. \nTřídenní setkání odborníků z oblasti krajinářské architektury\, urbanismu\, architektury\, územního plánování\, veřejné správy i akademického prostředí s investory\, podnikateli a developery otevře témata obnovy a rozvoje rozmanitosti krajiny – společenské\, kulturní i přírodní. Ukáže potenciál krajinářské architektury\, urbanismu a architektury jako účinných nástrojů transformace a správy krajiny. Přinese inspiraci\, jak posílit kvalitu života obyvatel\, posílit místní identitu\, ekologickou stabilitu\, sociální soudržnost\, ale také atraktivitu pro investory\, developery a další aktéry.
URL:https://www.asb-portal.cz/kalendar-akci/urbanscapes-2026-krajina-transformace-prilezitost
LOCATION:Ostrava DOV\, Gong\, Ruská 2993\, Ostrava\, 703 00\, Czech Republic
CATEGORIES:Konference a workshopy
END:VEVENT
BEGIN:VEVENT
DTSTART;VALUE=DATE:20260421
DTEND;VALUE=DATE:20260424
DTSTAMP:20260419T143354
CREATED:20260209T232957Z
LAST-MODIFIED:20260209T232957Z
UID:218534-1776729600-1776988799@www.asb-portal.cz
SUMMARY:Urbanscapes 2026
DESCRIPTION:Jak propojit ochranu přírody a kulturního dědictví s ekonomickým rozvojem? Jak transformaci území proměnit v šanci pro kvalitní životní prostředí\, investice a prosperitu? Na mezinárodní konferenci Urbanscapes 2026 v Ostravě se potkají města\, krajinářští architekti\, architekti\, urbanisté\, developeři i investoři.a\nAnotace \nJak udržitelně rozvíjet silně urbanizovanou\, postindustriální krajinu současnosti?\nJak pracovat s identitou a kulturním bohatstvím oblastí\, které procházejí výraznými socioekonomickými a environmentálními proměnami? Jak pomocí strategií\, plánování\, navrhování i správy území posilovat jejich odolnost\, prosperitu a přírodní kvality v souladu s dobrým životem obyvatel? Jak toho využít pro ekonomický rozvoj? Na tyto otázky cílí mezinárodní konference Urbanscapes 2026 Ostrava\, kterou pořádá Česká asociace pro krajinářskou architekturu. \nKonference se zaměří na obnovu a rozvoj rozmanitosti krajiny – environmentální\, společenské i kulturní. Ukáže potenciál architektury a krajinářské architektury jako účinných nástrojů transformace a správy krajiny v sídlech i ve volné krajině. Přinese inspiraci\, jak může jejich citlivé zapojení přinášet ekologickou stabilitu\, sociální soudržnost i atraktivitu pro investory\, developery a další aktéry. \nTémata městského a krajinného plánování\, regenerace přírodě blízkých systémů a ekonomického rozvoje budou propojena s důrazem na kvalitu života a posilování místní identity – a to jak v narušených oblastech\, tak v každodenní krajině. \nOdborníci různých profesí představí své přístupy\, vize a konkrétní strategie: Systémová řešení\, participativní projekty příklady dobré praxe až po proměny krajiny prostřednictvím uměleckých a experimentálních intervencí v Česku i zahraničí (průmyslové oblasti v Německu\, Irsku\, Velké Británii\, Polsku\, USA). \nKlíčovým tématem konference je nalezení rovnováhy mezi ochranou a rozvojem\, která otevírá nové příležitosti pro vývoj území a podporuje dlouhodobě udržitelný růst s konkrétní přidanou hodnotou pro místní prostředí\, komunity\, investory\, developery i samosprávy. \nMediálním partnerem je časopis ASB.
URL:https://www.asb-portal.cz/kalendar-akci/urbanscapes-2026
LOCATION:Ostrava DOV\, Gong\, Ruská 2993\, Ostrava\, 703 00\, Czech Republic
CATEGORIES:Konference a workshopy
END:VEVENT
BEGIN:VEVENT
DTSTART;TZID=Europe/Prague:20260421T133000
DTEND;TZID=Europe/Prague:20260424T133000
DTSTAMP:20260419T143354
CREATED:20260324T155940Z
LAST-MODIFIED:20260325T104049Z
UID:219625-1776778200-1777037400@www.asb-portal.cz
SUMMARY:Metro NORD Camp 2026
DESCRIPTION:Metro NORD Camp 2026 je mezinárodní konference zaměřená na témata inteligentních řešení v bydlení\, zdravotnictví\, facility a energy managementu. Koná se v Popradu od 21. do 24. dubna 2026 a setkávají se na ní zástupci developerských společností\, facility manažeři\, technologičtí dodavatelé v oblasti energetiky a IT\, stejně jako studenti a představitelé veřejné správy s cílem identifikovat společné výzvy a hledat budoucí řešení s širším dopadem na celou společnost. \nProgram MetroCampu je postaven na konkrétních zkušenostech z praxe. Zaměřuje se na oblasti: Sm(Art) Healthcare\, Sm(Art) Living\, Sm(Art) facility management & Sm(Art) Energy a Sm(Art) Future. Silnou stránkou této akce je také networking. V prostředí\, kde se technologie rychle vyvíjejí\, je právě sdílení zkušeností jedním z nejcennějších přínosů této inspirativní konference. \nVíce informací
URL:https://www.asb-portal.cz/kalendar-akci/metro-nord-camp-2026
LOCATION:AquaCity Poprad\, Športová 1397/1\, Poprad\, Slovensko\, 05801
CATEGORIES:Konference a workshopy
END:VEVENT
BEGIN:VEVENT
DTSTART;TZID=Europe/Prague:20260521T100000
DTEND;TZID=Europe/Prague:20260522T180000
DTSTAMP:20260419T143354
CREATED:20260318T131057Z
LAST-MODIFIED:20260318T131057Z
UID:219476-1779357600-1779472800@www.asb-portal.cz
SUMMARY:BIG SEE Festival 2026
DESCRIPTION:BIG SEE Festival 2026 se uskuteční 21.–22. května ve slovinském Portoroži a opět propojí architekty\, designéry\, značky i rozhodovací lídry z celého světa. Jako přední platforma architektury a designu v jihovýchodní Evropě spojuje odborný dialog s konkrétními projekty a inovacemi\, které formují současné zastavěné prostředí. \nRočník 2026 se nese v duchu tématu „Příliš mnoho? Co je ještě tak akorát?“\, které reflektuje rostoucí komplexitu současné tvorby. Prostřednictvím mezinárodní konference\, ocenění v oblasti architektury a designu a kurátorsky sestavené výstavy vytváří festival prostor pro úvahy o míře\, odpovědnosti a relevanci architektury a designu v dnešním světě. \nKonferenční program je rozdělen do pěti tematických bloků kurátorovaných předními mezinárodními osobnostmi\, které podporují otevřenou diskusi a výměnu zkušeností mezi etablovanými i začínajícími tvůrci. BIG SEE Awards oceňují výjimečné počiny v oblasti architektury\, interiérového a produktového designu\, zatímco doprovodná výstava představuje materiály\, produkty a technologie relevantní pro současnou architektonickou praxi. \nVíce informací
URL:https://www.asb-portal.cz/kalendar-akci/big-see-festival-2026
LOCATION:Grando\, Portorož\, Slovenia
CATEGORIES:Konference a workshopy
END:VEVENT
BEGIN:VEVENT
DTSTART;TZID=Europe/Prague:20260603T080000
DTEND;TZID=Europe/Prague:20260604T170000
DTSTAMP:20260419T143354
CREATED:20260407T133524Z
LAST-MODIFIED:20260407T134707Z
UID:219953-1780473600-1780592400@www.asb-portal.cz
SUMMARY:H2 HEATING 2026 – Vodík v budovách
DESCRIPTION:3. – 4.  června 2026 proběhne ve WELLNESS HOTEL STEP v Praze již 4. ročník vodíkové konference H2 HEATING \nKonference je zahrnuta do systému celoživotního vzdělávání Energetických specialistů (počet kreditů: 4\, číslo vzdělávací akce: 592) \nžádáno o záštitu: Ministerstvo průmyslu a obchodu\, Ministerstvo životního prostředí\, Ministerstvo pro místní rozvoj\, Ministerstvo školství a tělovýchovy\nza podpory HYDROGEN Group: APOKS\, z.s.\, Český plynárenský svaz\, Univerzitní centrum energeticky efektivních budov ČVUT\, Česká vodíková technologická platforma (HYTEP) \nRegistrace
URL:https://www.asb-portal.cz/kalendar-akci/h2-heating-2026-vodik-v-budovach
LOCATION:WELLNESS HOTEL STEP\, Malletova 1141/4\, Praha\, 190 00
CATEGORIES:Konference a workshopy
END:VEVENT
BEGIN:VEVENT
DTSTART;TZID=Europe/Prague:20260924T200000
DTEND;TZID=Europe/Prague:20260924T220000
DTSTAMP:20260419T143354
CREATED:20260209T232723Z
LAST-MODIFIED:20260209T232723Z
UID:218531-1790280000-1790287200@www.asb-portal.cz
SUMMARY:ASB GALA 2026 (SK)
DESCRIPTION:20. ročník prestížneho udeľovania cien \nASB GALA každoročne oceňuje spoločnosti a osobnosti\, ktoré sú prínosom pre slovenské stavebníctvo\, architektúru\, ale aj pre mestá a obce. Pre svoj komplexný záber od developerov cez projektantov a architektov až po stavebné spoločnosti má pevné miesto medzi súťažami a oceneniami. \n\nVýsledky minulého ročníka: Obhajovali sa prvenstvá\, no na pódiu sa objavili aj nováčikovia\nVeľká fotogaléria z galavečera 2025: Ktoré osobnosti sa objavili na galavečere?
URL:https://www.asb-portal.cz/kalendar-akci/asb-gala-2026-sk
LOCATION:DoubleTree by Hilton Hotel Bratislava\, Trnavská cesta 27 A\, Bratislava\, Slovensko
CATEGORIES:Ostatní
END:VEVENT
BEGIN:VEVENT
DTSTART;TZID=Europe/Prague:20261013T200000
DTEND;TZID=Europe/Prague:20261013T220000
DTSTAMP:20260419T143354
CREATED:20260209T232538Z
LAST-MODIFIED:20260209T232538Z
UID:218527-1791921600-1791928800@www.asb-portal.cz
SUMMARY:ASB GALA 2026
DESCRIPTION:Druhý ročník ASB GALA ocení výjimečné osobnosti\, stavební firmy i developery působící na českém trhu. O nominacích rozhoduje nominační komise složená ze zástupců významných profesních organizací. O vítězích pak hlasuje odborná porota složená z architektů\, developerů a stavebních expertů\, doplněná o hlasování odborné veřejnosti prostřednictvím webu ASB-portal.cz. Jedinou kategorií\, kde vítěze určuje přímo redakce\, je Cena redakce ASB. \n\nVýsledky minulého ročníku 2025: První ročník v Česku ocenil osobnosti\, developery a stavební firmy. Největší pocty patří Evě Jiřičné\nVelká fotogalerie: Které osobnosti se objevily na galavečeru?
URL:https://www.asb-portal.cz/kalendar-akci/asb-gala-2026
LOCATION:Národní dům na Vinohradech\, Náměstí Míru 9\,\, Praha\, Praha\, 120 53\, Czech Republic
CATEGORIES:Ostatní
END:VEVENT
END:VCALENDAR